BEGIN:VCALENDAR
VERSION:2.0
PRODID:-//Concord Community Music School - ECPv6.15.20//NONSGML v1.0//EN
CALSCALE:GREGORIAN
METHOD:PUBLISH
X-ORIGINAL-URL:https://www.ccmusicschool.org
X-WR-CALDESC:Events for Concord Community Music School
REFRESH-INTERVAL;VALUE=DURATION:PT1H
X-Robots-Tag:noindex
X-PUBLISHED-TTL:PT1H
BEGIN:VTIMEZONE
TZID:America/New_York
BEGIN:DAYLIGHT
TZOFFSETFROM:-0500
TZOFFSETTO:-0400
TZNAME:EDT
DTSTART:20250309T070000
END:DAYLIGHT
BEGIN:STANDARD
TZOFFSETFROM:-0400
TZOFFSETTO:-0500
TZNAME:EST
DTSTART:20251102T060000
END:STANDARD
BEGIN:DAYLIGHT
TZOFFSETFROM:-0500
TZOFFSETTO:-0400
TZNAME:EDT
DTSTART:20260308T070000
END:DAYLIGHT
BEGIN:STANDARD
TZOFFSETFROM:-0400
TZOFFSETTO:-0500
TZNAME:EST
DTSTART:20261101T060000
END:STANDARD
BEGIN:DAYLIGHT
TZOFFSETFROM:-0500
TZOFFSETTO:-0400
TZNAME:EDT
DTSTART:20270314T070000
END:DAYLIGHT
BEGIN:STANDARD
TZOFFSETFROM:-0400
TZOFFSETTO:-0500
TZNAME:EST
DTSTART:20271107T060000
END:STANDARD
END:VTIMEZONE
BEGIN:VEVENT
DTSTART;TZID=America/New_York:20260122T190000
DTEND;TZID=America/New_York:20260122T200000
DTSTAMP:20260423T014429
CREATED:20251006T134904Z
LAST-MODIFIED:20260109T145602Z
UID:10000392-1769108400-1769112000@www.ccmusicschool.org
SUMMARY:CCMS New Horizons Band 2026 Winter Concert
DESCRIPTION:Get ready to experience the warmth of music this winter! \nThe New Horizons Band is a community band that welcomes adults of all ages who play woodwind\, brass\, or percussion instruments. No auditions\, no requirements\, just reasonable comfort on your instrument to get started. Under the direction of Maria Isaak\, New Horizons at CCMS is a supportive group for those who have always wanted to learn an instrument\, those who haven’t played in years\, and even players who have kept their music making current and desire to play in a concert band setting.  Learn more about the Band at ccmusicschool.org/new-horizons-band/ \nThis concert will be held at the Bow High School Auditorium. It is free\, open to the public\, and made possible in part due to the support of the New Hampshire Charitable Foundation’s Ellen Downing Waite and Edward Osgood Waite Fund. \n(Snow date is Thu\, Jan 29.)
URL:https://www.ccmusicschool.org/event/nhb-winter-concert-2026/
LOCATION:Bow High School Auditorium
CATEGORIES:Community Events,Featured
END:VEVENT
END:VCALENDAR