BEGIN:VCALENDAR
VERSION:2.0
PRODID:-//Concord Community Music School - ECPv6.15.20//NONSGML v1.0//EN
CALSCALE:GREGORIAN
METHOD:PUBLISH
X-ORIGINAL-URL:https://www.ccmusicschool.org
X-WR-CALDESC:Events for Concord Community Music School
REFRESH-INTERVAL;VALUE=DURATION:PT1H
X-Robots-Tag:noindex
X-PUBLISHED-TTL:PT1H
BEGIN:VTIMEZONE
TZID:America/New_York
BEGIN:DAYLIGHT
TZOFFSETFROM:-0500
TZOFFSETTO:-0400
TZNAME:EDT
DTSTART:20240310T070000
END:DAYLIGHT
BEGIN:STANDARD
TZOFFSETFROM:-0400
TZOFFSETTO:-0500
TZNAME:EST
DTSTART:20241103T060000
END:STANDARD
BEGIN:DAYLIGHT
TZOFFSETFROM:-0500
TZOFFSETTO:-0400
TZNAME:EDT
DTSTART:20250309T070000
END:DAYLIGHT
BEGIN:STANDARD
TZOFFSETFROM:-0400
TZOFFSETTO:-0500
TZNAME:EST
DTSTART:20251102T060000
END:STANDARD
BEGIN:DAYLIGHT
TZOFFSETFROM:-0500
TZOFFSETTO:-0400
TZNAME:EDT
DTSTART:20260308T070000
END:DAYLIGHT
BEGIN:STANDARD
TZOFFSETFROM:-0400
TZOFFSETTO:-0500
TZNAME:EST
DTSTART:20261101T060000
END:STANDARD
END:VTIMEZONE
BEGIN:VEVENT
DTSTART;TZID=America/New_York:20251113T121000
DTEND;TZID=America/New_York:20251113T125000
DTSTAMP:20260423T061222
CREATED:20251007T175531Z
LAST-MODIFIED:20251008T125643Z
UID:10000394-1763035800-1763038200@www.ccmusicschool.org
SUMMARY:Bach’s Lunch: NH Premiere of "In Blackwater Woods"
DESCRIPTION:Stephen James\, composer\, turns collaborative pianist and is joined by soprano Jennie O’Brien for the premiere performance in New Hampshire of his song cycle In Blackwater Woods\, set to poems by Mary Oliver.  The song cycle includes seven remarkable poems of Mary Oliver which explore moments in her life\, the wonders of nature and human reactions to life and the world.  Her sometimes surprising point of view will sometimes make you smile\, sometimes make you cry\, sometimes give you an “a-ha” moment.  Jennie and Stephen have often collaborated through the years and are excited to present this new piece of work as part of the Bach’s Lunch series. \n  \nBios: \nStephen James completed his doctoral degree in composition at Boston University\, where he received the graduate composition prize in 1984\, the Malloy Miller Composition Award in 1986\, and an award for continuing musical excellence in 1987.  He is a pianist as well as a composer and has performed for the Tanglewood Music Center Chamber Series\, the WICN Radio concert series at Mechanics Hall (Worcester\, MA)\, the American Repertory Theater\, Alea III\, the Omnibus Series at Boston University\, the The Essex Chamber Music Players\, and on many other concert series in New England. \nDr. James was a 1985 Crofts Fellow in Composition at the Tanglewood Music Center and a member of the Center for Compositional Study at the Aspen Music Festival in 1986.  Performances of his works include premieres by the Pro Arte Chamber Orchestra of Boston and the Atlantic Brass Quintet\, commissions from the Washington Music Ensemble and the Newburyport Choral Society\, and performances by the Society for New Music (Syracuse\, NY) and the Fellows of the Music Center at Tanglewood.  He has taught piano performance\, music theory and  composition at Boston University\, Worcester State University\, the University of Massachusetts at Dartmouth\, Anna Maria College and Bridgewater State University. \nJennie O’Brien is a graduate of Boston University with Bachelor of Music\, one in Vocal Performance and the other in Music Education and a Master’s in Education from University of Massachusetts Boston specializing in teaching students with visual impairments. A soloist for several area churches and with Stephen James\, Jennie has also performed with Newton Choral Society\, Longy Chamber Singers\, Broadmoor Chamber Singers\, Vokes Theater\, Revels\, Inc.\, In Good Company\, and her own trio Crooked Mowth. Jennie teaches Voice\, co-directs Euphonias teen chorus and directs Songweavers women’s chorus all at Concord Community Music School.  Additionally\, Jennie teaches voice and theatre arts at Perkins School for the Blind. Jennie formerly taught at New England Conservatory in the Continuing Education department and was a board member of the theater group\, In Good Company. \nBach’s Lunches are free and open to the public. They are made possible in part through the generosity of the Walker Fund. \n  \n 
URL:https://www.ccmusicschool.org/event/bachs-lunch-20251113/
CATEGORIES:Bach's Lunch,Featured
END:VEVENT
BEGIN:VEVENT
DTSTART;TZID=America/New_York:20251106T121000
DTEND;TZID=America/New_York:20251106T125000
DTSTAMP:20260423T061222
CREATED:20251007T180017Z
LAST-MODIFIED:20251008T125508Z
UID:10000395-1762431000-1762433400@www.ccmusicschool.org
SUMMARY:Bach’s Lunch: The Composer's Process
DESCRIPTION:Composer Stephen James will speak about his creative process when composing\, how he researched the poems of Mary Oliver\, what inspired him\, and how he chose which poems to include in his song cycle for soprano and piano.   He will share insights into the texts and how they influenced his writing as he composed the songs. \nMary Oliver (1935 – 2019) was an American poet who won the Pulitzer Prize in 1984 and the National Book Award in 1992. She found inspiration for her work in nature and had a lifelong habit of solitary walks in the wild. Her poetry is characterized by wonderment at the natural environment\, vivid imagery\, and unadorned language. In 2007\, she was declared the best-selling poet in the United States. \nBio: \nStephen James completed his doctoral degree in composition at Boston University\, where he received the graduate composition prize in 1984\, the Malloy Miller Composition Award in 1986\, and an award for continuing musical excellence in 1987.  He is a pianist as well as a composer and has performed for the Tanglewood Music Center Chamber Series\, the WICN Radio concert series at Mechanics Hall (Worcester\, MA)\, the American Repertory Theater\, Alea III\, the Omnibus Series at Boston University\, the The Essex Chamber Music Players\, and on many other concert series in New England. \nDr. James was a 1985 Crofts Fellow in Composition at the Tanglewood Music Center and a member of the Center for Compositional Study at the Aspen Music Festival in 1986.  Performances of his works include premieres by the Pro Arte Chamber Orchestra of Boston and the Atlantic Brass Quintet\, commissions from the Washington Music Ensemble and the Newburyport Choral Society\, and performances by the Society for New Music (Syracuse\, NY) and the Fellows of the Music Center at Tanglewood.  He has taught piano performance\, music theory and  composition at Boston University\, Worcester State University\, the University of Massachusetts at Dartmouth\, Anna Maria College and Bridgewater State University. \nBach’s Lunches are free and open to the public. They are made possible in part through the generosity of the Walker Fund. \n  \n 
URL:https://www.ccmusicschool.org/event/bachs-lunch-20251106/
CATEGORIES:Bach's Lunch,Featured
END:VEVENT
BEGIN:VEVENT
DTSTART;TZID=America/New_York:20251009T121000
DTEND;TZID=America/New_York:20251009T131000
DTSTAMP:20260423T061222
CREATED:20250825T143318Z
LAST-MODIFIED:20250825T144508Z
UID:10000373-1760011800-1760015400@www.ccmusicschool.org
SUMMARY:Bach’s Lunch: La Femme Vaillante: Reviving the Musical Legacy of Augusta Holmès\, Part 2  (Lecture and Performance)
DESCRIPTION:Join contralto Melissa Elsman (our newest voice faculty) and pianist Kathryn Southworth for Part Two of this lecture–recital exploring the life and music of nineteenth-century Parisian composer Augusta Holmès. Denied access to the Paris Conservatory like her male peers\, Holmès persuaded César Franck to take her on as a private student. “She arouses in me the most unspiritual desires\,” her composition instructor is famously quoted as saying. Yet Holmès’s brilliance extended far beyond her presence: during her studies with Franck\, she began composing large-scale works—an endeavor considered forbidden for women of her time. \nThe program examines the height of her fame\, including the commission of her monumental Ode Triumphale to celebrate the centenary of the French Revolution\, which premiered in 1889 at the Palais de l’Industrie with 1\,200 musicians. This is followed by the profound hardships she faced\, both professionally and personally\, which left her financially strained. Despite these challenges\, Holmès remained resilient\, turning toward spirituality and maintaining hope and optimism. Selected songs from her Twenty Melodies will be performed to reflect the struggles she endured\, alongside selections from her Divine Tales\, which showcase her enduring strength and devotion to the divine. \nBios: \nMelissa Elsman (voice)\, classical singer and music educator\, holds a B.M. in Vocal Performance from The Boston Conservatory and an M.M. in Vocal Performance from Chicago College of Performing Arts. She continues her studies with renowned countertenor Mark Crayton. A member of the National Association of Teachers of Singing\, Melissa teaches voice to children and adults from beginner to advanced levels\, in a variety of styles including classical\, musical theater\, and popular music. An active performer with over 20 years of experience\, Melissa’s repertoire spans from art song to opera\, with a special interest in lesser-known works. She has produced and performed lecture-recitals\, including La Femme Vaillante: Reviving the Remarkable Musical Legacy of Augusta Holmès\, which she has toured both locally and in Chicago. \nKathryn Southworth (piano department co-chair\, piano\, performance workshops\, Canterbury Singers) holds a B.M. in Piano Performance from Oberlin Conservatory and an M.M. in Vocal Accompanying and Coaching from the University of Illinois. She held a graduate assistantship as staff accompanist under the tutelage of acclaimed accompanist John Wustman and served as a musical ambassador to Costa Rica with soprano Ollie Watts Davis. She has been a collaborative pianist for Opera North\, Dartmouth College\, Plymouth State University\, and Boston Ballet\, and has also served as music director\, accompanist\, and organist for many theater and choral groups in New England. Kathy is currently music director and organist for the Canterbury United Community Church. Former faculty positions include St. Paul’s School and Plymouth State University. \nBach’s Lunches are free and open to the public. They are made possible in part through the generosity of the Walker Fund. \n  \n 
URL:https://www.ccmusicschool.org/event/bachs-lunch-la-femme-vaillante-reviving-the-musical-legacy-of-augusta-holmes-part-2-lecture-and-performance/
CATEGORIES:Bach's Lunch,Featured
END:VEVENT
BEGIN:VEVENT
DTSTART;TZID=America/New_York:20251002T121000
DTEND;TZID=America/New_York:20251002T131000
DTSTAMP:20260423T061222
CREATED:20250825T143128Z
LAST-MODIFIED:20250825T144413Z
UID:10000372-1759407000-1759410600@www.ccmusicschool.org
SUMMARY:Bach’s Lunch: La Femme Vaillante: Reviving the Musical Legacy of Augusta Holmès\, Part 1  (Lecture and Performance)
DESCRIPTION:Join contralto Melissa Elsman (our newest voice faculty) and pianist Kathryn Southworth for Part One of this lecture–recital exploring the early life and music of nineteenth-century Parisian composer Augusta Holmès. Celebrated in her lifetime yet seldom remembered today\, Holmès defied societal expectations by composing on a grand scale—an endeavor deemed “masculine” and inappropriate for women of her era. \nRenowned not only for her music but also for her poetry\, voice\, and striking presence\, Holmès captivated many of the leading artists of her day. Camille Saint- Saëns is quoted as saying “We were all in love with her— literary men\, savants\, painters\, musi­cians; any one of us would have been proud to make her his wife.” \nThis program highlights her early years\, a period marked by passion\, romance\, and artistic inspiration. A selection of musical works and poetry written by Augusta Holmès that reflect this season of her life will be performed\, including her ardent song set Les Sérénades and her fiery song cycle Les Heures. \nBios: \nMelissa Elsman (voice)\, classical singer and music educator\, holds a B.M. in Vocal Performance from The Boston Conservatory and an M.M. in Vocal Performance from Chicago College of Performing Arts. She continues her studies with renowned countertenor Mark Crayton. A member of the National Association of Teachers of Singing\, Melissa teaches voice to children and adults from beginner to advanced levels\, in a variety of styles including classical\, musical theater\, and popular music. An active performer with over 20 years of experience\, Melissa’s repertoire spans from art song to opera\, with a special interest in lesser-known works. She has produced and performed lecture-recitals\, including La Femme Vaillante: Reviving the Remarkable Musical Legacy of Augusta Holmès\, which she has toured both locally and in Chicago. \nKathryn Southworth (piano department co-chair\, piano\, performance workshops\, Canterbury Singers) holds a B.M. in Piano Performance from Oberlin Conservatory and an M.M. in Vocal Accompanying and Coaching from the University of Illinois. She held a graduate assistantship as staff accompanist under the tutelage of acclaimed accompanist John Wustman and served as a musical ambassador to Costa Rica with soprano Ollie Watts Davis. She has been a collaborative pianist for Opera North\, Dartmouth College\, Plymouth State University\, and Boston Ballet\, and has also served as music director\, accompanist\, and organist for many theater and choral groups in New England. Kathy is currently music director and organist for the Canterbury United Community Church. Former faculty positions include St. Paul’s School and Plymouth State University. \nBach’s Lunches are free and open to the public. They are made possible in part through the generosity of the Walker Fund.
URL:https://www.ccmusicschool.org/event/bachs-lunch-la-femme-vaillante-reviving-the-musical-legacy-of-augusta-holmes-lecture-and-performance/
CATEGORIES:Bach's Lunch,Featured
END:VEVENT
END:VCALENDAR