BEGIN:VCALENDAR
VERSION:2.0
PRODID:-//Concord Community Music School - ECPv6.15.20//NONSGML v1.0//EN
CALSCALE:GREGORIAN
METHOD:PUBLISH
X-ORIGINAL-URL:https://www.ccmusicschool.org
X-WR-CALDESC:Events for Concord Community Music School
REFRESH-INTERVAL;VALUE=DURATION:PT1H
X-Robots-Tag:noindex
X-PUBLISHED-TTL:PT1H
BEGIN:VTIMEZONE
TZID:America/New_York
BEGIN:DAYLIGHT
TZOFFSETFROM:-0500
TZOFFSETTO:-0400
TZNAME:EDT
DTSTART:20250309T070000
END:DAYLIGHT
BEGIN:STANDARD
TZOFFSETFROM:-0400
TZOFFSETTO:-0500
TZNAME:EST
DTSTART:20251102T060000
END:STANDARD
BEGIN:DAYLIGHT
TZOFFSETFROM:-0500
TZOFFSETTO:-0400
TZNAME:EDT
DTSTART:20260308T070000
END:DAYLIGHT
BEGIN:STANDARD
TZOFFSETFROM:-0400
TZOFFSETTO:-0500
TZNAME:EST
DTSTART:20261101T060000
END:STANDARD
BEGIN:DAYLIGHT
TZOFFSETFROM:-0500
TZOFFSETTO:-0400
TZNAME:EDT
DTSTART:20270314T070000
END:DAYLIGHT
BEGIN:STANDARD
TZOFFSETFROM:-0400
TZOFFSETTO:-0500
TZNAME:EST
DTSTART:20271107T060000
END:STANDARD
END:VTIMEZONE
BEGIN:VEVENT
DTSTART;TZID=America/New_York:20260514T121000
DTEND;TZID=America/New_York:20260514T125000
DTSTAMP:20260423T073855
CREATED:20260414T173758Z
LAST-MODIFIED:20260416T184805Z
UID:10000434-1778760600-1778763000@www.ccmusicschool.org
SUMMARY:Bach's Lunch: “Echoes in Three Voices: A Chamber Music Journey”
DESCRIPTION:Featuring a musical performance by CCMS faculty Stephanie Ratté Jenkins and Olga Patramanska-Bell\, who will be joined by Levon Hovespian. \nStep into an intimate world of color\, rhythm\, and dialogue as piano\, violin\, and clarinet unite in a vibrant chamber music program. From the folk-inspired lyricism of Aram Khachaturian’s Clarinet Trio\, to the playful wit and jazzy inflections of Darius Milhaud’s Trio\, this concert explores the rich expressive range of this unique ensemble. The program is rounded out by the evocative and contemporary voice of Mason’s Trio\, offering fresh textures and modern storytelling. \nThree distinct musical voices blend into one captivating conversation—full of contrast\, character\, and charm. \nThis event will be held in our historic Recital Hall. It is free of charge and open to the public\, thanks in part to the generosity of the Walker Fund. Donations are appreciated.
URL:https://www.ccmusicschool.org/event/three_voice_echo/
CATEGORIES:Bach's Lunch,Featured
END:VEVENT
END:VCALENDAR